BEGIN:VCALENDAR
VERSION:2.0
PRODID:-//ChamberMaster//Event Calendar 2.0//EN
METHOD:PUBLISH
X-PUBLISHED-TTL:P3D
REFRESH-INTERVAL:P3D
CALSCALE:GREGORIAN
BEGIN:VEVENT
DTSTART:20260603T203000Z
DTEND:20260603T223000Z
X-MICROSOFT-CDO-ALLDAYEVENT:FALSE
SUMMARY:Housing Market Forecast 2026
DESCRIPTION:Presented by TD Bank\n\n\n\nThank you to our Supporting Sponsors including:\n\n\n\nIn partnership with the School of Business at the College of Charleston\, join us as we launch a housing research initiative to bring action-oriented\, fact-based knowledge around the pressures facing the housing crisis in the Lowcountry. This initiative will enhance how elected/public officials\, business leaders\, developers\, and the public understand what shapes the housing market.\n\n\n\nPARKING: Complimentary parking is NOT available for this event. There is ample city parking including ticketed surface lots\, garages\, and street parking.
X-ALT-DESC;FMTTYPE=text/html:<span style="font-family:tahoma\;"><span style="font-size:18px\;"><span style="font-weight: bold\;">Presented by TD Bank</span></span><br />\n<br />\n<span style="font-size: 14px\;">Thank you to our Supporting Sponsors including:</span></span><br />\n<br />\n<span style="font-family:tahoma\;"><span style="font-size: 14px\;">In partnership with the School of Business at the College of Charleston\, join us as we launch a housing research initiative to bring action-oriented\, fact-based knowledge around the pressures facing the housing crisis in the Lowcountry. This initiative will enhance how elected/public officials\, business leaders\, developers\, and the public understand what shapes the housing market.</span></span><br />\n<br />\n<span style="font-family:tahoma\;"><span style="line-height: 19.6px\;"><span style="line-height: 19.6px\;"><span style="font-size: 14px\;"><u><strong>PARKING:</strong></u> Complimentary parking is NOT available for this event. There is ample city parking including ticketed surface lots\, garages\, and street parking.</span></span></span></span>\n<ul>\n</ul>\n
LOCATION:TD Arena - McAlister Suite 301 Meeting Street Charleston\, SC 29401
UID:e.9460.1552
SEQUENCE:3
DTSTAMP:20260422T213101Z
URL:https://business.hbacharleston.com/events/details/housing-market-forecast-2026-1552
END:VEVENT

END:VCALENDAR
